BEGIN:VCALENDAR
VERSION:2.0
PRODID:-//demosphere.net//NONSGML kigkonsult.se iCalcreator 2.22.1//
METHOD:REQUEST
X-WR-TIMEZONE:Europe/Paris
BEGIN:VEVENT
UID:https://lille.demosphere.net/rv/11248
DTSTAMP:20260514T160000Z
DESCRIPTION:plus d'infos sur : https://lille.demosphere.net/rv/11248
DTSTART:20260514T160000Z
DTEND:20260514T170000Z
GEO:+50.625259;+3.048796
LOCATION:Lille Wazemmes\, \nCafé coopératif 'les Sarrazins' \n52-54 rue des
  Sarrasins \nMétro Ligne 1 : Gambetta ou Wazemmes \nMétro Ligne 2 : Monteb
 ello \nV'Lille : Maison Folie Wazemmes
SUMMARY:Les années 68 à Lille: présentation du livre avec les auteur·ices
URL:https://lille.demosphere.net/rv/11248
END:VEVENT
END:VCALENDAR
