BEGIN:VCALENDAR
VERSION:2.0
PRODID:-//demosphere.net//NONSGML kigkonsult.se iCalcreator 2.22.1//
METHOD:REQUEST
X-WR-TIMEZONE:Europe/Paris
BEGIN:VEVENT
UID:https://lille.demosphere.net/rv/11247
DTSTAMP:20260501T083000Z
DESCRIPTION:plus d'infos sur : https://lille.demosphere.net/rv/11247
DTSTART:20260501T083000Z
DTEND:20260501T093000Z
GEO:+50.418883;+2.946455
LOCATION:Hénin-Beaumont\, \nDevant l'Hotel de Ville de Hénin-Beaumont \n21 
 Rue Voltaire \nHénin-Beaumont
SUMMARY:Rassemblement
URL:https://lille.demosphere.net/rv/11247
END:VEVENT
END:VCALENDAR
