BEGIN:VCALENDAR
VERSION:2.0
PRODID:-//demosphere.net//NONSGML kigkonsult.se iCalcreator 2.22.1//
METHOD:REQUEST
X-WR-TIMEZONE:Europe/Paris
BEGIN:VEVENT
UID:https://lille.demosphere.net/rv/11246
DTSTAMP:20260513T140000Z
DESCRIPTION:plus d'infos sur : https://lille.demosphere.net/rv/11246
DTSTART:20260513T140000Z
DTEND:20260513T150000Z
GEO:+50.631045;+3.08781
LOCATION:Lille\, \nL'anamorphose \n48 rue du long pot \nMétro Fives
SUMMARY:Permanence du café des allocs 16-18h
URL:https://lille.demosphere.net/rv/11246
END:VEVENT
END:VCALENDAR
