BEGIN:VCALENDAR
VERSION:2.0
PRODID:-//demosphere.net//NONSGML kigkonsult.se iCalcreator 2.22.1//
METHOD:REQUEST
X-WR-TIMEZONE:Europe/Paris
BEGIN:VEVENT
UID:https://lille.demosphere.net/rv/11245
DTSTAMP:20260611T170000Z
DESCRIPTION:plus d'infos sur : https://lille.demosphere.net/rv/11245
DTSTART:20260611T170000Z
DTEND:20260611T180000Z
GEO:+50.430272;+2.833203
LOCATION:Lens\, \nLe Toit Commun \n15 rue René Lanoy \nLens
SUMMARY:Conférence gesticulée : Bienvenue dans le couloir de la mort !
URL:https://lille.demosphere.net/rv/11245
END:VEVENT
END:VCALENDAR
