BEGIN:VCALENDAR
VERSION:2.0
PRODID:-//demosphere.net//NONSGML kigkonsult.se iCalcreator 2.22.1//
METHOD:REQUEST
X-WR-TIMEZONE:Europe/Paris
BEGIN:VEVENT
UID:https://lille.demosphere.net/rv/11241
DTSTAMP:20260425T133000Z
DESCRIPTION:plus d'infos sur : https://lille.demosphere.net/rv/11241
DTSTART:20260425T133000Z
DTEND:20260425T143000Z
GEO:+50.606619;+3.065085
LOCATION:Faches-Thumesnil\, \nDevant la Salle Jacques Brel \nRue du Général
  Hoche \nFaches-Thumesnil
SUMMARY:Manifestation LGBT+
URL:https://lille.demosphere.net/rv/11241
END:VEVENT
END:VCALENDAR
