BEGIN:VCALENDAR
VERSION:2.0
PRODID:-//demosphere.net//NONSGML kigkonsult.se iCalcreator 2.22.1//
METHOD:REQUEST
X-WR-TIMEZONE:Europe/Paris
BEGIN:VEVENT
UID:https://lille.demosphere.net/rv/11238
DTSTAMP:20260429T170000Z
DESCRIPTION:plus d'infos sur : https://lille.demosphere.net/rv/11238
DTSTART:20260429T170000Z
DTEND:20260429T180000Z
GEO:+50.629286;+3.105224
LOCATION:Hellemmes-Lille\, \nLa Chaufferie \n5 rue Jean-Raymond Degrève \nH
 ellemmes-Lille \nMétro Ligne 1 : Marbrerie ou Mairie d'Hellemmes
SUMMARY:Rencontre avec Ricardo Parreira : Indextrême - identifier les symbo
 les du fascisme
URL:https://lille.demosphere.net/rv/11238
END:VEVENT
END:VCALENDAR
